BEGIN:VCALENDAR
VERSION:2.0
PRODID:-//Lighthouse Edu - ECPv6.15.20//NONSGML v1.0//EN
CALSCALE:GREGORIAN
METHOD:PUBLISH
X-ORIGINAL-URL:https://lighthouseeducenter.com
X-WR-CALDESC:Events for Lighthouse Edu
REFRESH-INTERVAL;VALUE=DURATION:PT1H
X-Robots-Tag:noindex
X-PUBLISHED-TTL:PT1H
BEGIN:VTIMEZONE
TZID:UTC
BEGIN:STANDARD
TZOFFSETFROM:+0000
TZOFFSETTO:+0000
TZNAME:UTC
DTSTART:20220101T000000
END:STANDARD
END:VTIMEZONE
BEGIN:VEVENT
DTSTART;TZID=UTC:20231218T080000
DTEND;TZID=UTC:20240105T170000
DTSTAMP:20260423T023045
CREATED:20230807T201118Z
LAST-MODIFIED:20230807T201118Z
UID:316-1702886400-1704474000@lighthouseeducenter.com
SUMMARY:Christmas Break
DESCRIPTION:Christmas Break
URL:https://lighthouseeducenter.com/event/christmas-break/
END:VEVENT
BEGIN:VEVENT
DTSTART;TZID=UTC:20240102T080000
DTEND;TZID=UTC:20240104T170000
DTSTAMP:20260423T023045
CREATED:20230807T201016Z
LAST-MODIFIED:20230807T201016Z
UID:314-1704182400-1704387600@lighthouseeducenter.com
SUMMARY:Home Study - Charter Students Only
DESCRIPTION:Home Study – Charter Students Only ***
URL:https://lighthouseeducenter.com/event/home-study-charter-students-only/
END:VEVENT
BEGIN:VEVENT
DTSTART;TZID=UTC:20240108T080000
DTEND;TZID=UTC:20240108T170000
DTSTAMP:20260423T023045
CREATED:20230807T201153Z
LAST-MODIFIED:20230807T201153Z
UID:318-1704700800-1704733200@lighthouseeducenter.com
SUMMARY:Classes Resume
DESCRIPTION:Classes Resume
URL:https://lighthouseeducenter.com/event/classes-resume/
END:VEVENT
BEGIN:VEVENT
DTSTART;TZID=UTC:20240112T080000
DTEND;TZID=UTC:20240112T170000
DTSTAMP:20260423T023045
CREATED:20230807T201238Z
LAST-MODIFIED:20230807T201238Z
UID:320-1705046400-1705078800@lighthouseeducenter.com
SUMMARY:End of Quarter 2 Classes
DESCRIPTION:End of Quarter 2 Classes
URL:https://lighthouseeducenter.com/event/end-of-quarter-2-classes/
END:VEVENT
BEGIN:VEVENT
DTSTART;TZID=UTC:20240115T080000
DTEND;TZID=UTC:20240115T170000
DTSTAMP:20260423T023045
CREATED:20230807T201324Z
LAST-MODIFIED:20230807T201324Z
UID:322-1705305600-1705338000@lighthouseeducenter.com
SUMMARY:Martin Luther King Jr. Day - No Classes
DESCRIPTION:Martin Luther King Jr. Day – No Classes
URL:https://lighthouseeducenter.com/event/martin-luther-king-jr-day-no-classes/
END:VEVENT
END:VCALENDAR