BEGIN:VCALENDAR
VERSION:2.0
PRODID:-//Lighthouse Edu - ECPv6.15.20//NONSGML v1.0//EN
CALSCALE:GREGORIAN
METHOD:PUBLISH
X-WR-CALNAME:Lighthouse Edu
X-ORIGINAL-URL:https://lighthouseeducenter.com
X-WR-CALDESC:Events for Lighthouse Edu
REFRESH-INTERVAL;VALUE=DURATION:PT1H
X-Robots-Tag:noindex
X-PUBLISHED-TTL:PT1H
BEGIN:VTIMEZONE
TZID:UTC
BEGIN:STANDARD
TZOFFSETFROM:+0000
TZOFFSETTO:+0000
TZNAME:UTC
DTSTART:20230101T000000
END:STANDARD
END:VTIMEZONE
BEGIN:VEVENT
DTSTART;TZID=UTC:20240214T080000
DTEND;TZID=UTC:20240214T170000
DTSTAMP:20260423T002934
CREATED:20230807T201500Z
LAST-MODIFIED:20230807T201500Z
UID:324-1707897600-1707930000@lighthouseeducenter.com
SUMMARY:Valentines Day - Class Parties - Wear Red to Classes
DESCRIPTION:Valentines Day – Class Parties – Wear Red to Classes
URL:https://lighthouseeducenter.com/event/valentines-day-class-parties-wear-red-to-classes/
END:VEVENT
BEGIN:VEVENT
DTSTART;TZID=UTC:20240219T080000
DTEND;TZID=UTC:20240222T170000
DTSTAMP:20260423T002934
CREATED:20230807T201554Z
LAST-MODIFIED:20230807T201612Z
UID:326-1708329600-1708621200@lighthouseeducenter.com
SUMMARY:Winter Break - No Classes
DESCRIPTION:Winter Break – No Classes
URL:https://lighthouseeducenter.com/event/winter-break-no-classes/
END:VEVENT
END:VCALENDAR