BEGIN:VCALENDAR
VERSION:2.0
PRODID:-//Lighthouse Edu - ECPv6.15.20//NONSGML v1.0//EN
CALSCALE:GREGORIAN
METHOD:PUBLISH
X-WR-CALNAME:Lighthouse Edu
X-ORIGINAL-URL:https://lighthouseeducenter.com
X-WR-CALDESC:Events for Lighthouse Edu
REFRESH-INTERVAL;VALUE=DURATION:PT1H
X-Robots-Tag:noindex
X-PUBLISHED-TTL:PT1H
BEGIN:VTIMEZONE
TZID:UTC
BEGIN:STANDARD
TZOFFSETFROM:+0000
TZOFFSETTO:+0000
TZNAME:UTC
DTSTART:20230101T000000
END:STANDARD
END:VTIMEZONE
BEGIN:VEVENT
DTSTART;TZID=UTC:20240814T080000
DTEND;TZID=UTC:20240815T170000
DTSTAMP:20260422T130338
CREATED:20240123T173016Z
LAST-MODIFIED:20240123T173016Z
UID:416-1723622400-1723741200@lighthouseeducenter.com
SUMMARY:New Staff Orientation Days
DESCRIPTION:
URL:https://lighthouseeducenter.com/event/new-staff-orientation-days-2/
END:VEVENT
BEGIN:VEVENT
DTSTART;TZID=UTC:20240819T080000
DTEND;TZID=UTC:20240822T170000
DTSTAMP:20260422T130338
CREATED:20240123T173105Z
LAST-MODIFIED:20240123T173105Z
UID:417-1724054400-1724346000@lighthouseeducenter.com
SUMMARY:Staff Days
DESCRIPTION:
URL:https://lighthouseeducenter.com/event/staff-days-2/
END:VEVENT
BEGIN:VEVENT
DTSTART;TZID=UTC:20240822T173000
DTEND;TZID=UTC:20240822T190000
DTSTAMP:20260422T130338
CREATED:20240123T173216Z
LAST-MODIFIED:20240725T200932Z
UID:418-1724347800-1724353200@lighthouseeducenter.com
SUMMARY:Meet N Greet
DESCRIPTION:
URL:https://lighthouseeducenter.com/event/meet-n-greet-2/
END:VEVENT
BEGIN:VEVENT
DTSTART;TZID=UTC:20240826T080000
DTEND;TZID=UTC:20240826T170000
DTSTAMP:20260422T130338
CREATED:20240123T173300Z
LAST-MODIFIED:20240123T173300Z
UID:419-1724659200-1724691600@lighthouseeducenter.com
SUMMARY:First Day of Classes
DESCRIPTION:
URL:https://lighthouseeducenter.com/event/first-day-of-classes-2/
END:VEVENT
END:VCALENDAR