BEGIN:VCALENDAR
VERSION:2.0
PRODID:-//Lighthouse Edu - ECPv6.15.20//NONSGML v1.0//EN
CALSCALE:GREGORIAN
METHOD:PUBLISH
X-ORIGINAL-URL:https://lighthouseeducenter.com
X-WR-CALDESC:Events for Lighthouse Edu
REFRESH-INTERVAL;VALUE=DURATION:PT1H
X-Robots-Tag:noindex
X-PUBLISHED-TTL:PT1H
BEGIN:VTIMEZONE
TZID:UTC
BEGIN:STANDARD
TZOFFSETFROM:+0000
TZOFFSETTO:+0000
TZNAME:UTC
DTSTART:20230101T000000
END:STANDARD
END:VTIMEZONE
BEGIN:VEVENT
DTSTART;TZID=UTC:20240902T080000
DTEND;TZID=UTC:20240902T170000
DTSTAMP:20260422T111117
CREATED:20240123T173355Z
LAST-MODIFIED:20240123T173355Z
UID:420-1725264000-1725296400@lighthouseeducenter.com
SUMMARY:Labor Day - No Classes
DESCRIPTION:
URL:https://lighthouseeducenter.com/event/labor-day-no-classes-2/
END:VEVENT
BEGIN:VEVENT
DTSTART;TZID=UTC:20240905T080000
DTEND;TZID=UTC:20240905T170000
DTSTAMP:20260422T111117
CREATED:20240123T173511Z
LAST-MODIFIED:20240123T173511Z
UID:421-1725523200-1725555600@lighthouseeducenter.com
SUMMARY:Back to Classes Night
DESCRIPTION:Times may vary for Classes Night
URL:https://lighthouseeducenter.com/event/back-to-classes-night-2/
END:VEVENT
END:VCALENDAR